BEGIN:VCALENDAR
PRODID:NingEventWidget-v1
VERSION:2.0
METHOD:PUBLISH
BEGIN:VTIMEZONE
TZID:America/Chicago
X-LIC-LOCATION:America/Chicago
BEGIN:DAYLIGHT
TZOFFSETFROM:-0600
TZOFFSETTO:-0500
TZNAME:CDT
DTSTART:19700308T020000
RRULE:FREQ=YEARLY;BYMONTH=3;BYDAY=2SU
END:DAYLIGHT
BEGIN:STANDARD
TZOFFSETFROM:-0500
TZOFFSETTO:-0600
TZNAME:CST
DTSTART:19701101T020000
RRULE:FREQ=YEARLY;BYMONTH=11;BYDAY=1SU
END:STANDARD
END:VTIMEZONE
BEGIN:VEVENT
UID:3181080:Event:71197
DTSTAMP:20260419T131405Z
SUMMARY:The Texas Knife Show
DESCRIPTION:The Texas Knife Show\nMarch 27 - 28, 2010\nWilliamson Hote
 l And Conference Center (behind the Wingate Inn)\nMake your reservatio
 ns early.\nSaturday - Noon to 6pm and Sunday - 9am - 4pm\nUp to 100 ta
 bles of custom and antique knives.\n\nFor more information visit https
 ://iknifecollector.com/events/the-texas-knife-show
DTSTART;TZID=America/Chicago:20100327T090000
DTEND;TZID=America/Chicago:20100328T210000
CATEGORIES:custom, knife, show
LOCATION:Williamson Hotel And Conference Center (behind the Wingate In
 n)
WEBSITE:http://www.texasknifeshow.com
URL:http://www.texasknifeshow.com
CONTACT:830-606-4067
ORGANIZER:Texas Knifemakers & Collectors Association
ATTACH;FMTTYPE="image/jpeg":http://storage.ning.com/topology/rest/1.0/
 file/get/2831248016?profile=original
ATTENDEE;ROLE=REQ-PARTICIPANT;PARTSTAT=ACCEPTED;RSVP=TRUE;CN="Johnny S
 tout":https://iknifecollector.com/profile/JohnnyStout
ATTENDEE;ROLE=REQ-PARTICIPANT;PARTSTAT=TENTATIVE;RSVP=TRUE;CN="Rick Co
 thren":https://iknifecollector.com/profile/RickCothren
ATTENDEE;ROLE=REQ-PARTICIPANT;PARTSTAT=TENTATIVE;RSVP=TRUE;CN="Jackie 
 Cribbs":https://iknifecollector.com/profile/JackieCribbs
END:VEVENT
END:VCALENDAR
