BEGIN:VCALENDAR
PRODID:NingEventWidget-v1
VERSION:2.0
METHOD:PUBLISH
BEGIN:VTIMEZONE
TZID:America/Chicago
X-LIC-LOCATION:America/Chicago
BEGIN:DAYLIGHT
TZOFFSETFROM:-0600
TZOFFSETTO:-0500
TZNAME:CDT
DTSTART:19700308T020000
RRULE:FREQ=YEARLY;BYMONTH=3;BYDAY=2SU
END:DAYLIGHT
BEGIN:STANDARD
TZOFFSETFROM:-0500
TZOFFSETTO:-0600
TZNAME:CST
DTSTART:19701101T020000
RRULE:FREQ=YEARLY;BYMONTH=11;BYDAY=1SU
END:STANDARD
END:VTIMEZONE
BEGIN:VEVENT
UID:3181080:Event:1597430
DTSTAMP:20260424T155153Z
SUMMARY:THE TITUSVILLE KNIFE SHOW ** PA
DESCRIPTION:Presented by PA KNIFEMAKERS AND COLLECTORS LLCDATE: Friday
  August 9th, Saturday, August 10th, 2019WHERE: Pleasantville Fire Hall
 , Pleasantville, PA 16341(note, Pleasantville is 5 miles east of Titus
 ville on Route PA 27)TIME: Public hours, Friday 12:00 noon to 5 pm, Sa
 turday 8:00 am to 4:00 pmDEALER SET-UP: Friday 7:00 am to 12:00 noon, 
 Saturday 7:00am to 8:00 amTable cost:  $ 60.00 per 8 foot tableQUESTI
 ONS: CALL 412-554-6705, ASK FOR MIKE or EMAIL:  mikes@paknifemakers.
 com\n\nFor more information visit https://iknifecollector.com/events/t
 he-titusville-knife-show-pa
DTSTART;TZID=America/Chicago:20190810T000000
DTEND;TZID=America/Chicago:20190810T235900
CATEGORIES:knife, show
LOCATION:Pleasantville Fire Hall
WEBSITE:
URL:
CONTACT:
ORGANIZER:Jan Carter mikes@paknifemakers.com
ATTACH;FMTTYPE="image/jpeg":
END:VEVENT
END:VCALENDAR
