BEGIN:VCALENDAR
PRODID:NingEventWidget-v1
VERSION:2.0
METHOD:PUBLISH
BEGIN:VTIMEZONE
TZID:America/Chicago
X-LIC-LOCATION:America/Chicago
BEGIN:DAYLIGHT
TZOFFSETFROM:-0600
TZOFFSETTO:-0500
TZNAME:CDT
DTSTART:19700308T020000
RRULE:FREQ=YEARLY;BYMONTH=3;BYDAY=2SU
END:DAYLIGHT
BEGIN:STANDARD
TZOFFSETFROM:-0500
TZOFFSETTO:-0600
TZNAME:CST
DTSTART:19701101T020000
RRULE:FREQ=YEARLY;BYMONTH=11;BYDAY=1SU
END:STANDARD
END:VTIMEZONE
BEGIN:VEVENT
UID:3181080:Event:44696
DTSTAMP:20260424T095213Z
SUMMARY:Third Annual Easton PA knife Show
DESCRIPTION:all the info is at paknifeshow.com\n\nFor more information
  visit https://iknifecollector.com/events/third-annual-easton-pa-knife
DTSTART;TZID=America/Chicago:20090926T090000
DTEND;TZID=America/Chicago:20090927T150000
CATEGORIES:knife, show
LOCATION:Easton Pennsylvania
WEBSITE:http://paknifeshow.com
URL:http://paknifeshow.com
CONTACT:
ORGANIZER:
ATTACH;FMTTYPE="image/jpeg":
ATTENDEE;ROLE=REQ-PARTICIPANT;PARTSTAT=ACCEPTED;RSVP=TRUE;CN="Dennis J
 . Coroniti":https://iknifecollector.com/profile/DennisJCoroniti
ATTENDEE;ROLE=REQ-PARTICIPANT;PARTSTAT=ACCEPTED;RSVP=TRUE;CN="Michael 
 B":https://iknifecollector.com/profile/MichaelB
END:VEVENT
END:VCALENDAR
