BEGIN:VCALENDAR
PRODID:NingEventWidget-v1
VERSION:2.0
METHOD:PUBLISH
BEGIN:VTIMEZONE
TZID:America/Chicago
X-LIC-LOCATION:America/Chicago
BEGIN:DAYLIGHT
TZOFFSETFROM:-0600
TZOFFSETTO:-0500
TZNAME:CDT
DTSTART:19700308T020000
RRULE:FREQ=YEARLY;BYMONTH=3;BYDAY=2SU
END:DAYLIGHT
BEGIN:STANDARD
TZOFFSETFROM:-0500
TZOFFSETTO:-0600
TZNAME:CST
DTSTART:19701101T020000
RRULE:FREQ=YEARLY;BYMONTH=11;BYDAY=1SU
END:STANDARD
END:VTIMEZONE
BEGIN:VEVENT
UID:3181080:Event:1601666
DTSTAMP:20260424T071828Z
SUMMARY:Third Annual Rocky Knob Hammer-in
DESCRIPTION:This will be #3. Still trying to keep it simple and casual
 .\nOpen to public - knifesmithing, blacksmithing, knives on display, f
 ood/drink will be available on site (long way from any store).\nOpen a
 ir event with good cover so rain or shine\nThe Pocket Skinner will be 
 the Donation Knife all proceeds go to St.Jude Children's Hospital\n\n(
 Sorry for the late notice been kinda busy)\n\nFor more information vis
 it https://iknifecollector.com/events/third-annual-rocky-knob-hammer-i
 n
DTSTART;TZID=America/Chicago:20190803T000000
DTEND;TZID=America/Chicago:20190803T235900
CATEGORIES:fun, event, no, big, aggenda, -, will, be, a, donation, kni
 fe
LOCATION:Crawford's Campground, Murphy, NC
WEBSITE:http://Crawfordscg.com
URL:http://Crawfordscg.com
CONTACT:(828) 837-9077
ORGANIZER:Carl Rechsteiner and Crawford's Campground
ATTACH;FMTTYPE="image/jpeg":https://storage.ning.com/topology/rest/1.0
 /file/get/3327757640?profile=original
ATTENDEE;ROLE=REQ-PARTICIPANT;PARTSTAT=ACCEPTED;RSVP=TRUE;CN="Jan Cart
 er":https://iknifecollector.com/profile/JanCarter
ATTENDEE;ROLE=REQ-PARTICIPANT;PARTSTAT=ACCEPTED;RSVP=TRUE;CN="Carl Rec
 hsteiner":https://iknifecollector.com/profile/CarlRechsteiner
END:VEVENT
END:VCALENDAR
