BEGIN:VCALENDAR
PRODID:NingEventWidget-v1
VERSION:2.0
METHOD:PUBLISH
BEGIN:VTIMEZONE
TZID:America/Chicago
X-LIC-LOCATION:America/Chicago
BEGIN:DAYLIGHT
TZOFFSETFROM:-0600
TZOFFSETTO:-0500
TZNAME:CDT
DTSTART:19700308T020000
RRULE:FREQ=YEARLY;BYMONTH=3;BYDAY=2SU
END:DAYLIGHT
BEGIN:STANDARD
TZOFFSETFROM:-0500
TZOFFSETTO:-0600
TZNAME:CST
DTSTART:19701101T020000
RRULE:FREQ=YEARLY;BYMONTH=11;BYDAY=1SU
END:STANDARD
END:VTIMEZONE
BEGIN:VEVENT
UID:3181080:Event:152018
DTSTAMP:20260424T071854Z
SUMMARY:Tony Bose Event, Land O Lakes FL
DESCRIPTION:Tony Bose and Case personnel in attendance\nEvent Knives:\
 n1)Jigged Mollasses bone barehead swayback gent TB61117SS\nLimited to 
 50 peices\n2)My Favorite Case Event Knife*Smooth Chestnut bone Peanut*
  Limited to 25 peices\n3) Harvey's Hardware show knife * Olive Green S
 tockman*\nlimited to 25 peices\nDoor prizes, Drawings and Giveaways\nW
 in a knife Dartboard Game\nLive and silent auctions\n\nFor more inform
 ation visit https://iknifecollector.com/events/tony-bose-event-land-o-
 lakes
DTSTART;TZID=America/Chicago:20101113T090000
DTEND;TZID=America/Chicago:20101113T130000
CATEGORIES:my, favorite, case, event
LOCATION:Harvey's Hardware
WEBSITE:
URL:
CONTACT:813-996-2400 or 888-355-9064
ORGANIZER;CN="Jan Carter":https://iknifecollector.com/profile/JanCarte
 r
ATTACH;FMTTYPE="image/jpeg":
ATTENDEE;ROLE=REQ-PARTICIPANT;PARTSTAT=ACCEPTED;RSVP=TRUE;CN="Jan Cart
 er":https://iknifecollector.com/profile/JanCarter
END:VEVENT
END:VCALENDAR
