BEGIN:VCALENDAR
PRODID:NingEventWidget-v1
VERSION:2.0
METHOD:PUBLISH
BEGIN:VTIMEZONE
TZID:America/Chicago
X-LIC-LOCATION:America/Chicago
BEGIN:DAYLIGHT
TZOFFSETFROM:-0600
TZOFFSETTO:-0500
TZNAME:CDT
DTSTART:19700308T020000
RRULE:FREQ=YEARLY;BYMONTH=3;BYDAY=2SU
END:DAYLIGHT
BEGIN:STANDARD
TZOFFSETFROM:-0500
TZOFFSETTO:-0600
TZNAME:CST
DTSTART:19701101T020000
RRULE:FREQ=YEARLY;BYMONTH=11;BYDAY=1SU
END:STANDARD
END:VTIMEZONE
BEGIN:VEVENT
UID:3181080:Event:1683970
DTSTAMP:20260425T080336Z
SUMMARY:TRACKROCK HAMMER-IN **GA**
DESCRIPTION:\r\nGreat News: Open to all with no admission fee!\r\n\r\n
 \r\nActivities: Blade and Blacksmithing, Hawk Forging, Leather craftin
 g and Anything Knife related.\r\n\r\n\r\nWho: Anyone interested in kni
 ves, knife making, Hawks, leather work,collecting, trading, etc.\r\nWa
 tch, meet and talk with some of the Souths most talented makers and cr
 aftsmen and women.\r\nSee discarded steel, scrap metal, wood and bone 
 transformed into functional works of art.\r\n\r\n\r\nGeneral: Craftsme
 n and visitors from all over the USA and other countries\r\nFinished k
 nives on display and for sale. Materials and Supply vendors, etc.\r\n\
 r\n\r\nThis is a family oriented event so: BEHAVE!\r\nNo unsafe or rec
 kless behavior will be tolerated!\r\n\r\n\r\nAdditional:” Iron in th
 e Hat” event Saturday after lunch to help fund the event. Please bri
 ng usable items for this event. This is a great opportunity to grab va
 luable plunder- knife making materials, parts and pieces.\r\nStrictly 
 voluntary, your participation is encouraged.\r\n\r\n\r\nCharity Knife 
 Donation: Custom knife will be on display during the event and the dra
 wing will be Saturday pm. Proceeds go to the makers selected charity.\
 r\n\r\n\r\nAccommodations: Trackrock has full hookups and primitive ca
 mping available. Blairsville and Young Harris are close by with hotels
 .\r\n\r\n\r\nCatered Lunch: BBQ plates will be available on site for S
 aturday lunch. Pricing set by caterer (always reasonable).\r\n\r\n\r\n
 “Special Note” we are starting a new program ( Forging Youth) to e
 ncourage these up and coming knife makers. In doing so, we will be giv
 ing away a complete forge setup, (i.e. anvil, forge, tongs and hammer)
  to help kick start their journey. We will be awarding a forge setup!\
 r\n\r\n\r\nPlease Contact Scott Garrison if you would like to set up y
 our equipment and lend a hand teaching others our craft, or need any f
 urther information.\r\n\n\nFor more information visit https://iknifeco
 llector.com/events/trackrock-hammer-in-ga-1
DTSTART;TZID=America/Chicago:20220318T000000
DTEND;TZID=America/Chicago:20220319T235900
CATEGORIES:hammer, in
LOCATION:TrackRock Campground
WEBSITE:https://iknifecollector.com/forum/topics/forging-kids-at-a-ham
 mer-in
URL:https://iknifecollector.com/forum/topics/forging-kids-at-a-hammer-
 in
CONTACT:
ORGANIZER;CN="Jan Carter":https://iknifecollector.com/profile/JanCarte
 r
ATTACH;FMTTYPE="image/jpeg":https://storage.ning.com/topology/rest/1.0
 /file/get/9385834294?profile=original
ATTENDEE;ROLE=REQ-PARTICIPANT;PARTSTAT=ACCEPTED;RSVP=TRUE;CN="Jan Cart
 er":https://iknifecollector.com/profile/JanCarter
END:VEVENT
END:VCALENDAR
