BEGIN:VCALENDAR
PRODID:NingEventWidget-v1
VERSION:2.0
METHOD:PUBLISH
BEGIN:VTIMEZONE
TZID:America/Chicago
X-LIC-LOCATION:America/Chicago
BEGIN:DAYLIGHT
TZOFFSETFROM:-0600
TZOFFSETTO:-0500
TZNAME:CDT
DTSTART:19700308T020000
RRULE:FREQ=YEARLY;BYMONTH=3;BYDAY=2SU
END:DAYLIGHT
BEGIN:STANDARD
TZOFFSETFROM:-0500
TZOFFSETTO:-0600
TZNAME:CST
DTSTART:19701101T020000
RRULE:FREQ=YEARLY;BYMONTH=11;BYDAY=1SU
END:STANDARD
END:VTIMEZONE
BEGIN:VEVENT
UID:3181080:Event:1425832
DTSTAMP:20260424T020650Z
SUMMARY:Tucson Expo Knife Show
DESCRIPTION:December 17 & 18 2016\nSaturday 9-5, Sunday 9-3\nTucson Ex
 po Center\n3750 E. Irvington Road\nTucson, Arizona\nCall for more info
 rmation 650-520-6002\nExhibitors from throughout the U.S. will display
  Custom Knives, Vintage Knives, Tactical Knives, Factory Knives, Knife
  Making Demonstrations, Knives Purveyors.\nThere is a gun show the sam
 e weekend in different section of the Expo.\nNearby hotel. Special rat
 es Booking code for special rate: 'GUN SHOW'\nComfort Inn & Suites 485
 0 South Hotel Drive Tucson, AZ. 85714 (520) 747 7474\n\nFor more infor
 mation visit https://iknifecollector.com/events/tucson-expo-knife-show
DTSTART;TZID=America/Chicago:20161217T090000
DTEND;TZID=America/Chicago:20161218T150000
CATEGORIES:knife, show
LOCATION:Tucson Expo Center, Tucson, Arizona
WEBSITE:http://www.azgunradio.com/calendar_gun_detail.cfm?event=70
URL:http://www.azgunradio.com/calendar_gun_detail.cfm?event=70
CONTACT:650 520 6002
ORGANIZER:Arizona Gun Radio
ATTACH;FMTTYPE="image/jpeg":
ATTENDEE;ROLE=REQ-PARTICIPANT;PARTSTAT=ACCEPTED;RSVP=TRUE;CN="Lee Been
 e":https://iknifecollector.com/profile/LeeBeene
ATTENDEE;ROLE=REQ-PARTICIPANT;PARTSTAT=TENTATIVE;RSVP=TRUE;CN="Sergi C
 . Heideman":https://iknifecollector.com/profile/SergiCHeideman
END:VEVENT
END:VCALENDAR
