BEGIN:VCALENDAR
PRODID:NingEventWidget-v1
VERSION:2.0
METHOD:PUBLISH
BEGIN:VTIMEZONE
TZID:America/Chicago
X-LIC-LOCATION:America/Chicago
BEGIN:DAYLIGHT
TZOFFSETFROM:-0600
TZOFFSETTO:-0500
TZNAME:CDT
DTSTART:19700308T020000
RRULE:FREQ=YEARLY;BYMONTH=3;BYDAY=2SU
END:DAYLIGHT
BEGIN:STANDARD
TZOFFSETFROM:-0500
TZOFFSETTO:-0600
TZNAME:CST
DTSTART:19701101T020000
RRULE:FREQ=YEARLY;BYMONTH=11;BYDAY=1SU
END:STANDARD
END:VTIMEZONE
BEGIN:VEVENT
UID:3181080:Event:966221
DTSTAMP:20260424T200550Z
SUMMARY:TX - 11th annual ABS all forged Blade Expo
DESCRIPTION:The 2014 American Bladesmith Society's all forged blade E
 XPO is the premier show for hand forged blades. From utility blades, t
 o the finest forged and crafted art knives, the ABS EXPO has something
  for everyone. The show is held in San Antonio, Texas, the home of 
 the Alamo.\n \nSee some of the world's finest forged knives showcased
  in a unique and informative format for the enjoyment of the forged bl
 ade collector/enthusiast by American Bladesmith Society Mastersmiths a
 nd Journeyman Smiths.\n \n \n\nFor more information visit https://ik
 nifecollector.com/events/tx-11th-annual-abs-all-forged-blade-expo
DTSTART;TZID=America/Chicago:20140125T000000
DTEND;TZID=America/Chicago:20140126T235900
CATEGORIES:forged, blade, show
LOCATION:Drury Plaza Hotel Riverwalk
WEBSITE:http://www.americanbladesmith.com/index.php?section=pages&id=1
 92
URL:http://www.americanbladesmith.com/index.php?section=pages&id=192
CONTACT:
ORGANIZER;CN="Jan Carter":https://iknifecollector.com/profile/JanCarte
 r
ATTACH;FMTTYPE="image/jpeg":
ATTENDEE;ROLE=REQ-PARTICIPANT;PARTSTAT=ACCEPTED;RSVP=TRUE;CN="Jan Cart
 er":https://iknifecollector.com/profile/JanCarter
END:VEVENT
END:VCALENDAR
