BEGIN:VCALENDAR
PRODID:NingEventWidget-v1
VERSION:2.0
METHOD:PUBLISH
BEGIN:VTIMEZONE
TZID:America/Chicago
X-LIC-LOCATION:America/Chicago
BEGIN:DAYLIGHT
TZOFFSETFROM:-0600
TZOFFSETTO:-0500
TZNAME:CDT
DTSTART:19700308T020000
RRULE:FREQ=YEARLY;BYMONTH=3;BYDAY=2SU
END:DAYLIGHT
BEGIN:STANDARD
TZOFFSETFROM:-0500
TZOFFSETTO:-0600
TZNAME:CST
DTSTART:19701101T020000
RRULE:FREQ=YEARLY;BYMONTH=11;BYDAY=1SU
END:STANDARD
END:VTIMEZONE
BEGIN:VEVENT
UID:3181080:Event:1635211
DTSTAMP:20260424T183141Z
SUMMARY:USN Gathering ** NV
DESCRIPTION:t's not a knife show. It's not an industry trade show. It'
 s not a 9 to 5 stroll through a bunch of crowded aisles filled with ta
 bles and people that you don't know. It's a huge family reunion with f
 amily members who you've personally chosen to call your own. There wil
 l be no strangers at The Gathering. Just hundreds of your closest frie
 nds and chosen family.\r\n\r\nSure, there's a show too, but no boring,
  confusing aisles to navigate. The Gathering is set up in intimate qua
 ds, where a novice and two established makers or suppliers will join a
  major maker. A circular traffic flow guarantees that you won’t miss
  anyone, and makes it easy to re-locate them as well.\r\nThere will be
  plenty of knives, gear, lights and toys, but first and foremost, they
 're all friends who you already know and trust because you deal with t
 hem and see them on the USN pretty much every day.\n\nFor more informa
 tion visit https://iknifecollector.com/events/usn-gathering-nv
DTSTART;TZID=America/Chicago:20210902T000000
DTEND;TZID=America/Chicago:20210904T235900
CATEGORIES:knife, event
LOCATION:Planet Hollywood
WEBSITE:https://www.usngathering.com/MoreInformation.aspx
URL:https://www.usngathering.com/MoreInformation.aspx
CONTACT:
ORGANIZER;CN="Jan Carter":https://iknifecollector.com/profile/JanCarte
 r
ATTACH;FMTTYPE="image/jpeg":
END:VEVENT
END:VCALENDAR
