BEGIN:VCALENDAR
PRODID:NingEventWidget-v1
VERSION:2.0
METHOD:PUBLISH
BEGIN:VTIMEZONE
TZID:America/Chicago
X-LIC-LOCATION:America/Chicago
BEGIN:DAYLIGHT
TZOFFSETFROM:-0600
TZOFFSETTO:-0500
TZNAME:CDT
DTSTART:19700308T020000
RRULE:FREQ=YEARLY;BYMONTH=3;BYDAY=2SU
END:DAYLIGHT
BEGIN:STANDARD
TZOFFSETFROM:-0500
TZOFFSETTO:-0600
TZNAME:CST
DTSTART:19701101T020000
RRULE:FREQ=YEARLY;BYMONTH=11;BYDAY=1SU
END:STANDARD
END:VTIMEZONE
BEGIN:VEVENT
UID:3181080:Event:1159787
DTSTAMP:20260420T223522Z
SUMMARY:Valley of the Caddo Museum Big Gun & Knife Show
DESCRIPTION:Buy, sell and trade guns, ammo, knives, jewelry, old coins
  and other collectibles.  Tickets for Bushmaster AR-15 rifle can be 
 purchased at the Chamber office.  $5 each or six for $25. \n\nFor mo
 re information visit https://iknifecollector.com/events/valley-of-the-
 caddo-museum-big-gun-knife-show
DTSTART;TZID=America/Chicago:20140726T000000
DTEND;TZID=America/Chicago:20140727T235900
CATEGORIES:gun, "&", knife, show
LOCATION:Love Civic Center
WEBSITE:
URL:
CONTACT:Allen Bowles 918-658-4500
ORGANIZER;CN="Jan Carter":https://iknifecollector.com/profile/JanCarte
 r
ATTACH;FMTTYPE="image/jpeg":
ATTENDEE;ROLE=REQ-PARTICIPANT;PARTSTAT=ACCEPTED;RSVP=TRUE;CN="Jan Cart
 er":https://iknifecollector.com/profile/JanCarter
END:VEVENT
END:VCALENDAR
