BEGIN:VCALENDAR
PRODID:NingEventWidget-v1
VERSION:2.0
METHOD:PUBLISH
BEGIN:VTIMEZONE
TZID:America/Chicago
X-LIC-LOCATION:America/Chicago
BEGIN:DAYLIGHT
TZOFFSETFROM:-0600
TZOFFSETTO:-0500
TZNAME:CDT
DTSTART:19700308T020000
RRULE:FREQ=YEARLY;BYMONTH=3;BYDAY=2SU
END:DAYLIGHT
BEGIN:STANDARD
TZOFFSETFROM:-0500
TZOFFSETTO:-0600
TZNAME:CST
DTSTART:19701101T020000
RRULE:FREQ=YEARLY;BYMONTH=11;BYDAY=1SU
END:STANDARD
END:VTIMEZONE
BEGIN:VEVENT
UID:3181080:Event:1452868
DTSTAMP:20260423T050402Z
SUMMARY:Vegas Invitational Knifemakers Show *NV*
DESCRIPTION:We’re glad you stopped by. We have been producing qualit
 y antique arms and collectible knife shows for more than 53 years. If 
 you have attended one of our Las Vegas Antique Arms Shows™ you alrea
 dy know the quality we demand. If you haven’t had the chance to atte
 nded one of our shows, you have our commitment that we only cater to t
 he finest collectible arms dealers and collectors around the world.\r\
 nAntiqueArmsShow.com represents the nation’s leading antique firearm
 s, curios and relics dealers. Participating dealers must meet show req
 uirements and are individually qualified. If you are interested in par
 ticipating as a dealer, please contact us.\n\nFor more information vis
 it https://iknifecollector.com/events/vegas-invitational-knifemakers-s
 how
DTSTART;TZID=America/Chicago:20200228T000000
DTEND;TZID=America/Chicago:20200301T235900
CATEGORIES:knife, show
LOCATION:Westgate Resort &amp; Casino (NV)
WEBSITE:http://antiquearmsshow.com/index.php
URL:http://antiquearmsshow.com/index.php
CONTACT:
ORGANIZER;CN="Jan Carter":https://iknifecollector.com/profile/JanCarte
 r
ATTACH;FMTTYPE="image/jpeg":https://storage.ning.com/topology/rest/1.0
 /file/get/962169136?profile=original
END:VEVENT
END:VCALENDAR
