BEGIN:VCALENDAR
PRODID:NingEventWidget-v1
VERSION:2.0
METHOD:PUBLISH
BEGIN:VTIMEZONE
TZID:America/Chicago
X-LIC-LOCATION:America/Chicago
BEGIN:DAYLIGHT
TZOFFSETFROM:-0600
TZOFFSETTO:-0500
TZNAME:CDT
DTSTART:19700308T020000
RRULE:FREQ=YEARLY;BYMONTH=3;BYDAY=2SU
END:DAYLIGHT
BEGIN:STANDARD
TZOFFSETFROM:-0500
TZOFFSETTO:-0600
TZNAME:CST
DTSTART:19701101T020000
RRULE:FREQ=YEARLY;BYMONTH=11;BYDAY=1SU
END:STANDARD
END:VTIMEZONE
BEGIN:VEVENT
UID:3181080:Event:866887
DTSTAMP:20260423T020654Z
SUMMARY:W.R. Case President´s Day -SMKW
DESCRIPTION:I will be attending this one, join us\n\nFor more informat
 ion visit https://iknifecollector.com/events/w-r-case-president-s-day-
 smkw-1
DTSTART;TZID=America/Chicago:20130622T000000
DTEND;TZID=America/Chicago:20130622T235900
CATEGORIES:"w.r.", case, "president´s", day, -smkw
LOCATION:SMKW
WEBSITE:http://www.smkw.com/webapp/eCommerce/main_front.jsp?Mode=Other
 &file=calendar.html
URL:http://www.smkw.com/webapp/eCommerce/main_front.jsp?Mode=Other&fil
 e=calendar.html
CONTACT:
ORGANIZER;CN="Jan Carter":https://iknifecollector.com/profile/JanCarte
 r
ATTACH;FMTTYPE="image/jpeg":
ATTENDEE;ROLE=REQ-PARTICIPANT;PARTSTAT=ACCEPTED;RSVP=TRUE;CN="Kylene P
 arker":https://iknifecollector.com/profile/KyleneParker
ATTENDEE;ROLE=REQ-PARTICIPANT;PARTSTAT=ACCEPTED;RSVP=TRUE;CN="Josh Hil
 l":https://iknifecollector.com/profile/JoshHill
ATTENDEE;ROLE=REQ-PARTICIPANT;PARTSTAT=ACCEPTED;RSVP=TRUE;CN="Max McGr
 uder":https://iknifecollector.com/profile/MaxMcGruder
ATTENDEE;ROLE=REQ-PARTICIPANT;PARTSTAT=ACCEPTED;RSVP=TRUE;CN="Charles 
 Reed":https://iknifecollector.com/profile/CharlesReed
ATTENDEE;ROLE=REQ-PARTICIPANT;PARTSTAT=ACCEPTED;RSVP=TRUE;CN="Jan Cart
 er":https://iknifecollector.com/profile/JanCarter
END:VEVENT
END:VCALENDAR
