BEGIN:VCALENDAR
PRODID:NingEventWidget-v1
VERSION:2.0
METHOD:PUBLISH
BEGIN:VTIMEZONE
TZID:America/Chicago
X-LIC-LOCATION:America/Chicago
BEGIN:DAYLIGHT
TZOFFSETFROM:-0600
TZOFFSETTO:-0500
TZNAME:CDT
DTSTART:19700308T020000
RRULE:FREQ=YEARLY;BYMONTH=3;BYDAY=2SU
END:DAYLIGHT
BEGIN:STANDARD
TZOFFSETFROM:-0500
TZOFFSETTO:-0600
TZNAME:CST
DTSTART:19701101T020000
RRULE:FREQ=YEARLY;BYMONTH=11;BYDAY=1SU
END:STANDARD
END:VTIMEZONE
BEGIN:VEVENT
UID:3181080:Event:1301201
DTSTAMP:20260424T193904Z
SUMMARY:W.R. Case & Sons President's Day
DESCRIPTION:President Greg Booth, Case Ambassador featuring Ed Hercule
 s, and Tony Bose Tours\n\nFor more information visit https://iknifecol
 lector.com/events/w-r-case-sons-president-s-day
DTSTART;TZID=America/Chicago:20150530T180000
DTEND;TZID=America/Chicago:20150530T190000
CATEGORIES:"w.r.", case, "&", sons, "president's", day
LOCATION:Smoky Mountain Knife Works
WEBSITE:http://www.wrcase.com/happenings/events/
URL:http://www.wrcase.com/happenings/events/
CONTACT:
ORGANIZER;CN="Jan Carter":https://iknifecollector.com/profile/JanCarte
 r
ATTACH;FMTTYPE="image/jpeg":http://storage.ning.com/topology/rest/1.0/
 file/get/2831439982?profile=original
ATTENDEE;ROLE=REQ-PARTICIPANT;PARTSTAT=ACCEPTED;RSVP=TRUE;CN="Jan Cart
 er":https://iknifecollector.com/profile/JanCarter
END:VEVENT
END:VCALENDAR
