BEGIN:VCALENDAR
PRODID:NingEventWidget-v1
VERSION:2.0
METHOD:PUBLISH
BEGIN:VTIMEZONE
TZID:America/Chicago
X-LIC-LOCATION:America/Chicago
BEGIN:DAYLIGHT
TZOFFSETFROM:-0600
TZOFFSETTO:-0500
TZNAME:CDT
DTSTART:19700308T020000
RRULE:FREQ=YEARLY;BYMONTH=3;BYDAY=2SU
END:DAYLIGHT
BEGIN:STANDARD
TZOFFSETFROM:-0500
TZOFFSETTO:-0600
TZNAME:CST
DTSTART:19701101T020000
RRULE:FREQ=YEARLY;BYMONTH=11;BYDAY=1SU
END:STANDARD
END:VTIMEZONE
BEGIN:VEVENT
UID:3181080:Event:1261773
DTSTAMP:20260425T233258Z
SUMMARY:Wanenmacher's Tulsa Arms Show
DESCRIPTION:\nMORE THAN 4,200 TABLES!\n\n\nIN ONE ENORMOUS 11 ACRE AIR
 CONDITIONED AND HEATED ROOM!\n\n\nEXPO SQUARE (TULSA FAIRGROUNDS)\n\n\
 n4145 E. 21st St.\n\n\nTULSA, OKLAHOMA\n\n\n\n\n\nFor more information
  visit https://iknifecollector.com/events/wanenmacher-s-tulsa-arms-sho
 w-3
DTSTART;TZID=America/Chicago:20150411T000000
DTEND;TZID=America/Chicago:20150412T235900
CATEGORIES:arms, show
LOCATION:Tulsa Fairgrounds
WEBSITE:http://www.tulsaarmsshow.com/frames.html
URL:http://www.tulsaarmsshow.com/frames.html
CONTACT:
ORGANIZER;CN="Jan Carter":https://iknifecollector.com/profile/JanCarte
 r
ATTACH;FMTTYPE="image/jpeg":
END:VEVENT
END:VCALENDAR
