BEGIN:VCALENDAR
PRODID:NingEventWidget-v1
VERSION:2.0
METHOD:PUBLISH
BEGIN:VTIMEZONE
TZID:America/Chicago
X-LIC-LOCATION:America/Chicago
BEGIN:DAYLIGHT
TZOFFSETFROM:-0600
TZOFFSETTO:-0500
TZNAME:CDT
DTSTART:19700308T020000
RRULE:FREQ=YEARLY;BYMONTH=3;BYDAY=2SU
END:DAYLIGHT
BEGIN:STANDARD
TZOFFSETFROM:-0500
TZOFFSETTO:-0600
TZNAME:CST
DTSTART:19701101T020000
RRULE:FREQ=YEARLY;BYMONTH=11;BYDAY=1SU
END:STANDARD
END:VTIMEZONE
BEGIN:VEVENT
UID:3181080:Event:1694156
DTSTAMP:20260421T055135Z
SUMMARY:Wanenmacher's Tulsa Arms Show **OK**
DESCRIPTION:This is the official site of Wanenmacher's Tulsa Arms Sh
 ow, the original Tulsa gun show and the largest gun show in the world.
  Sometimes publishers or other websites accidentally publish wrong dat
 es for our show. You can always find the correct dates here.\r\n \r\
 nThis is the show you have been waiting for. We have the largest selec
 tion and the best prices! Bring your guns and knives to sell or trade.
  If you miss this show, you will regret it. Make your plans now. Tell 
 your friends. Bring your kids and Have a great time.\n\nFor more infor
 mation visit https://iknifecollector.com/events/wanenmacher-s-tulsa-ar
 ms-show-ok-2
DTSTART;TZID=America/Chicago:20220402T000000
DTEND;TZID=America/Chicago:20220403T235900
CATEGORIES:gun, "&amp", knife, show
LOCATION:EXPO SQUARE (TULSA FAIRGROUNDS)
WEBSITE:http://www.tulsaarmsshow.com/home.html
URL:http://www.tulsaarmsshow.com/home.html
CONTACT:
ORGANIZER;CN="Jan Carter":https://iknifecollector.com/profile/JanCarte
 r
ATTACH;FMTTYPE="image/jpeg":https://storage.ning.com/topology/rest/1.0
 /file/get/9987547699?profile=original
END:VEVENT
END:VCALENDAR
