BEGIN:VCALENDAR
PRODID:NingEventWidget-v1
VERSION:2.0
METHOD:PUBLISH
BEGIN:VTIMEZONE
TZID:America/Chicago
X-LIC-LOCATION:America/Chicago
BEGIN:DAYLIGHT
TZOFFSETFROM:-0600
TZOFFSETTO:-0500
TZNAME:CDT
DTSTART:19700308T020000
RRULE:FREQ=YEARLY;BYMONTH=3;BYDAY=2SU
END:DAYLIGHT
BEGIN:STANDARD
TZOFFSETFROM:-0500
TZOFFSETTO:-0600
TZNAME:CST
DTSTART:19701101T020000
RRULE:FREQ=YEARLY;BYMONTH=11;BYDAY=1SU
END:STANDARD
END:VTIMEZONE
BEGIN:VEVENT
UID:3181080:Event:73513
DTSTAMP:20260419T142933Z
SUMMARY:Wanenmacher's Tulsa Arms Show
DESCRIPTION:I HAVE A NEW TABLE LOCATION #13LD1 BOTTOM LEVEL\nTulsa, Ok
 lahoma\n\nDon't miss this great show, not only the biggest gun show in
  the world but also one of the best knife shows you'll ever be able to
  attend.\n\nFor more information visit https://iknifecollector.com/eve
 nts/wanenmachers-tulsa-arms-show
DTSTART;TZID=America/Chicago:20100410T000000
DTEND;TZID=America/Chicago:20100411T235900
CATEGORIES:gun, show
LOCATION:EXPO CENTER-EXPO SQUARE (TULSA FAIRGROUNDS)
WEBSITE:http://www.tulsaarmsshow.com/
URL:http://www.tulsaarmsshow.com/
CONTACT:918-492-0401
ORGANIZER:Tulsa Gun Show, Inc.
ATTACH;FMTTYPE="image/jpeg":http://storage.ning.com/topology/rest/1.0/
 file/get/2831248474?profile=original
ATTENDEE;ROLE=REQ-PARTICIPANT;PARTSTAT=ACCEPTED;RSVP=TRUE;CN="T.A.DAVI
 SON":https://iknifecollector.com/profile/TADAVISON
ATTENDEE;ROLE=REQ-PARTICIPANT;PARTSTAT=ACCEPTED;RSVP=TRUE;CN="Johnny S
 tout":https://iknifecollector.com/profile/JohnnyStout
END:VEVENT
END:VCALENDAR
