BEGIN:VCALENDAR
PRODID:NingEventWidget-v1
VERSION:2.0
METHOD:PUBLISH
BEGIN:VTIMEZONE
TZID:America/Chicago
X-LIC-LOCATION:America/Chicago
BEGIN:DAYLIGHT
TZOFFSETFROM:-0600
TZOFFSETTO:-0500
TZNAME:CDT
DTSTART:19700308T020000
RRULE:FREQ=YEARLY;BYMONTH=3;BYDAY=2SU
END:DAYLIGHT
BEGIN:STANDARD
TZOFFSETFROM:-0500
TZOFFSETTO:-0600
TZNAME:CST
DTSTART:19701101T020000
RRULE:FREQ=YEARLY;BYMONTH=11;BYDAY=1SU
END:STANDARD
END:VTIMEZONE
BEGIN:VEVENT
UID:3181080:Event:992935
DTSTAMP:20260424T133408Z
SUMMARY:West Springfield Gun & Knife show
DESCRIPTION:West Springfield Gun & Knife show\n\nFor more information 
 visit https://iknifecollector.com/events/west-springfield-gun-knife-sh
 ow
DTSTART;TZID=America/Chicago:20131214T090000
DTEND;TZID=America/Chicago:20131215T150000
CATEGORIES:gun, "&", knife, show
LOCATION:EASTERN STATES EXPOSITION
WEBSITE:http://users.erols.com/fasttrack/loc/w-spr/SPRINGFIELD%20FLYER
 %20DEC%2013.pdf
URL:http://users.erols.com/fasttrack/loc/w-spr/SPRINGFIELD%20FLYER%20D
 EC%2013.pdf
CONTACT:
ORGANIZER;CN="Greg Dash":https://iknifecollector.com/profile/GregDash
ATTACH;FMTTYPE="image/jpeg":
ATTENDEE;ROLE=REQ-PARTICIPANT;PARTSTAT=ACCEPTED;RSVP=TRUE;CN="Greg Das
 h":https://iknifecollector.com/profile/GregDash
END:VEVENT
END:VCALENDAR
