BEGIN:VCALENDAR
PRODID:NingEventWidget-v1
VERSION:2.0
METHOD:PUBLISH
BEGIN:VTIMEZONE
TZID:America/Chicago
X-LIC-LOCATION:America/Chicago
BEGIN:DAYLIGHT
TZOFFSETFROM:-0600
TZOFFSETTO:-0500
TZNAME:CDT
DTSTART:19700308T020000
RRULE:FREQ=YEARLY;BYMONTH=3;BYDAY=2SU
END:DAYLIGHT
BEGIN:STANDARD
TZOFFSETFROM:-0500
TZOFFSETTO:-0600
TZNAME:CST
DTSTART:19701101T020000
RRULE:FREQ=YEARLY;BYMONTH=11;BYDAY=1SU
END:STANDARD
END:VTIMEZONE
BEGIN:VEVENT
UID:3181080:Event:993027
DTSTAMP:20260424T215122Z
SUMMARY:WILMINGTON, MA  FIREARM & KNIFE SHOW
DESCRIPTION:WILMINGTON, MA FIREARM & KNIFE SHOW \n\nFor more informa
 tion visit https://iknifecollector.com/events/wilmington-ma-firearm-kn
 ife-show
DTSTART;TZID=America/Chicago:20131109T090000
DTEND;TZID=America/Chicago:20131110T150000
CATEGORIES:firearm, "&", knife, show
LOCATION:SHRINERS AUDITORIUM, WILMINGTON, MA
WEBSITE:http://users.erols.com/fasttrack/loc/wil/WILMINGTON%20FLYER%20
 NOV%2013.pdf
URL:http://users.erols.com/fasttrack/loc/wil/WILMINGTON%20FLYER%20NOV%
 2013.pdf
CONTACT:
ORGANIZER;CN="Greg Dash":https://iknifecollector.com/profile/GregDash
ATTACH;FMTTYPE="image/jpeg":
ATTENDEE;ROLE=REQ-PARTICIPANT;PARTSTAT=ACCEPTED;RSVP=TRUE;CN="Greg Das
 h":https://iknifecollector.com/profile/GregDash
ATTENDEE;ROLE=REQ-PARTICIPANT;PARTSTAT=TENTATIVE;RSVP=TRUE;CN="Derek C
 ooper":https://iknifecollector.com/profile/DerekCooper
END:VEVENT
END:VCALENDAR
