BEGIN:VCALENDAR
PRODID:NingEventWidget-v1
VERSION:2.0
METHOD:PUBLISH
BEGIN:VTIMEZONE
TZID:America/Chicago
X-LIC-LOCATION:America/Chicago
BEGIN:DAYLIGHT
TZOFFSETFROM:-0600
TZOFFSETTO:-0500
TZNAME:CDT
DTSTART:19700308T020000
RRULE:FREQ=YEARLY;BYMONTH=3;BYDAY=2SU
END:DAYLIGHT
BEGIN:STANDARD
TZOFFSETFROM:-0500
TZOFFSETTO:-0600
TZNAME:CST
DTSTART:19701101T020000
RRULE:FREQ=YEARLY;BYMONTH=11;BYDAY=1SU
END:STANDARD
END:VTIMEZONE
BEGIN:VEVENT
UID:3181080:Event:1683966
DTSTAMP:20260424T194534Z
SUMMARY:WKCC Fall Show at the Octagon House Barn **MI**
DESCRIPTION:WKCC Fall Show at the Octagon House Barn, custom and facto
 ry knives welcome.\n\nFor more information visit https://iknifecollect
 or.com/events/wkcc-fall-show-at-the-octagon-house-barn-mi
DTSTART;TZID=America/Chicago:20210911T000000
DTEND;TZID=America/Chicago:20210911T235900
CATEGORIES:knife, show
LOCATION:Loren Andrus 1860s Octagon House
WEBSITE:https://www.facebook.com/pages/category/Nonprofit-Organization
 /Wolverine-Knife-Collectors-Club-489264994467779/
URL:https://www.facebook.com/pages/category/Nonprofit-Organization/Wol
 verine-Knife-Collectors-Club-489264994467779/
CONTACT:
ORGANIZER;CN="Jan Carter":https://iknifecollector.com/profile/JanCarte
 r
ATTACH;FMTTYPE="image/jpeg":
END:VEVENT
END:VCALENDAR
